Workbook

Sheet T1
A1: ĐẢNG CỘNG SẢN VIỆT NAM | F1: Mẫu báo cáo B01/ĐP
A2: Đơn vị báo cáo: Chi bộ 2 | F2: Ban hành kèm theo CV số 141-CV/VPTW/nb
A3: Đơn vị nhận báo cáo: Văn phòng Đảng ủy | F3: ngày 17-3-2011 của VP Trung ương Đảng
A4: Trường Cao đẳng Lý Tự Trọng
A5: BÁO CÁO THU, NỘP ĐẢNG PHÍ
A6: Tháng 1 năm 2019
A8: TT | B8: Chỉ tiêu | C8: ĐVT | D8: Mã số | E8: Đảng bộ xã,phường, thị trấn | F8: Đảng bộ doanh nghiệp | G8: Đảng bộ khác | H8: Cộng | I8: Ghi chú
A9: A | B9: B | C9: C | D9: D | E9: 1 | F9: 2 | G9: 3 | H9: 4=1+2+3 | I9: E
A10: I | B10: Tổng số đảng viên đến cuối kỳ báo cáo | C10: Người | D10: 01 | G10: 18 | H10: 18
A11: II | B11: Đảng phí đã thu được từ chi bộ của cấp báo cáo | C11: Đồng | G11: =G12+G13 -> 1130565 | H11: =G11 -> 1130565
A12: 1 | B12: Kỳ báo cáo | C12: Đồng | D12: 02 | G12: 1130565 | H12: =G12 -> 1130565
A13: 2 | B13: Từ đầu năm đến cuối kỳ báo cáo | C13: Đồng | D13: 03 | H13: =G13 -> 0
A14: III | B14: Đảng phí trích giữ lại ở các cấp | C14: Đồng | G14: =G15 -> 339169 | H14: =G14 -> 339169
A15: 1 | B15: Kỳ báo cáo (05+06+07) | C15: Đồng | D15: 04 | G15: 339169 | H15: =F15+G15 -> 339169
A16: 1.1 | B16: Chi bộ,đảng bộ,bộ phận | C16: Đồng | D16: 05
A17: 1.2 | B17: Tổ chức cơ sở đảng | C17: Đồng | D17: 06
A18: 1.3 | B18: Cấp trên cơ sở | C18: Đồng | D18: 07
A19: 2 | B19: Từ đầu năm đến cuối kỳ báo cáo (09+10+11) | C19: Đồng | D19: 08 | G19: =G15 -> 339169 | H19: =F19+G19 -> 339169
A20: 2.1 | B20: Chi bộ,đảng bộ,bộ phận | C20: Đồng | D20: 09
A21: 2.2 | B21: Tổ chức cơ sở đảng | C21: Đồng | D21: 10
A22: 2.3 | B22: Cấp trên cơ sở | C22: Đồng | D22: 11
A23: IV | B23: Đảng phí nộp cấp trên của cấp báo cáo | C23: Đồng | G23: =G24+G25 -> 791395 | H23: =G23 -> 791395
A24: 1 | B24: Số phải nộp kỳ báo cáo | C24: Đồng | D24: 12 | G24: 791395 | H24: =F24+G24 -> 791395
A25: 2 | B25: Từ đầu năm đến cuối kỳ báo cáo (03-08) | C25: Đồng | D25: 13 | H25: =F25+G25 -> 0
A26: 3 | B26: Số còn nợ chưa nộp cấp trên đến cuối kỳ báo cáo | C26: Đồng | D26: 14 | G26: 0 | H26: 0
F28: TP. Hồ Chí Minh, ngày 31 tháng 01 năm 2019
F29: T/M CẤP ỦY
B30: Người lập | F30: BÍ THƯ
B36: Nguyễn Thị Hoa | G36: Lâm Viết Dũng

Sheet T2
A1: ĐẢNG CỘNG SẢN VIỆT NAM | F1: Mẫu báo cáo B01/ĐP
A2: Đơn vị báo cáo: Chi bộ 2 | F2: Ban hành kèm theo CV số 141-CV/VPTW/nb
A3: Đơn vị nhận báo cáo: Văn phòng Đảng ủy | F3: ngày 17-3-2011 của VP Trung ương Đảng
A4: Trường Cao đẳng Lý Tự Trọng
A6: BÁO CÁO THU, NỘP ĐẢNG PHÍ
A7: Tháng 2 năm 2019
A9: TT | B9: Chỉ tiêu | C9: ĐVT | D9: Mã số | E9: Đảng bộ xã, phường, thị trấn | F9: Đảng bộ doanh nghiệp | G9: Đảng bộ khác | H9: Cộng | I9: Ghi chú
A10: A | B10: B | C10: C | D10: D | E10: 1 | F10: 2 | G10: 3 | H10: 4=1+2+3 | I10: E
A11: I | B11: Tổng số đảng viên đến cuối kỳ báo cáo | C11: Người | D11: 01 | G11: 18 | H11: 18
A12: II | B12: Đảng phí đã thu được từ chi bộ của cấp báo cáo | C12: Đồng | G12: =G15+G24 -> 1112008 | H12: =G12 -> 1112008
A13: 1 | B13: Kỳ báo cáo | C13: Đồng | D13: 02 | G13: 1112008 | H13: =G13 -> 1112008
A14: 2 | B14: Từ đầu năm đến cuối kỳ báo cáo | C14: Đồng | D14: 03 | G14: =G13+'T1'!G11 -> 2242573 | H14: =G14 -> 2242573
A15: III | B15: Đảng phí trích giữ lại ở các cấp | C15: Đồng | G15: =G16 -> 333602 | H15: =G15 -> 333602
A16: 1 | B16: Kỳ báo cáo (05+06+07) | C16: Đồng | D16: 04 | G16: 333602 | H16: =F16+G16 -> 333602
A17: 1.1 | B17: Chi bộ,đảng bộ,bộ phận | C17: Đồng | D17: 05
A18: 1.2 | B18: Tổ chức cơ sở đảng | C18: Đồng | D18: 06
A19: 1.3 | B19: Cấp trên cơ sở | C19: Đồng | D19: 07
A20: 2 | B20: Từ đầu năm đến cuối kỳ báo cáo (09+10+11) | C20: Đồng | D20: 08 | G20: ='T1'!G14+G16 -> 672771 | H20: =F20+G20 -> 672771
A21: 2.1 | B21: Chi bộ,đảng bộ,bộ phận | C21: Đồng | D21: 09
A22: 2.2 | B22: Tổ chức cơ sở đảng | C22: Đồng | D22: 10
A23: 2.3 | B23: Cấp trên cơ sở | C23: Đồng | D23: 11
A24: IV | B24: Đảng phí nộp cấp trên của cấp báo cáo | C24: Đồng | G24: =G25 -> 778406 | H24: =G24 -> 778406
A25: 1 | B25: Số phải nộp kỳ báo cáo | C25: Đồng | D25: 12 | E25: T2 | G25: 778406 | H25: =F25+G25 -> 778406
A26: 2 | B26: Từ đầu năm đến cuối kỳ báo cáo (03-08) | C26: Đồng | D26: 13 | G26: =G25+'T1'!G23 -> 1569801 | H26: =F26+G26 -> 1569801
A27: 3 | B27: Số còn nợ chưa nộp cấp trên đến cuối kỳ báo cáo | C27: Đồng | D27: 14 | G27: 0 | H27: 0
F29: TP. Hồ Chí Minh, ngày 28 tháng 02 năm 2019
F30: T/M CẤP ỦY
B31: Người lập | F31: BÍ THƯ
B38: Nguyễn Thị Hoa | G38: Lâm Viết Dũng

Sheet T3
A1: ĐẢNG CỘNG SẢN VIỆT NAM | F1: Mẫu báo cáo B01/ĐP
A2: Đơn vị báo cáo: Chi bộ 2 | F2: Ban hành kèm theo CV số 141-CV/VPTW/nb
A3: Đơn vị nhận báo cáo: Văn phòng Đảng ủy | F3: ngày 17-3-2011 của VP Trung ương Đảng
A4: Trường Cao đẳng Lý Tự Trọng
A6: BÁO CÁO THU, NỘP ĐẢNG PHÍ
A7: Tháng 3 năm 2019
A9: TT | B9: Chỉ tiêu | C9: ĐVT | D9: Mã số | E9: Đảng bộ xã, phường, thị trấn | F9: Đảng bộ doanh nghiệp | G9: Đảng bộ khác | H9: Cộng | I9: Ghi chú
A10: A | B10: B | C10: C | D10: D | E10: 1 | F10: 2 | G10: 3 | H10: 4=1+2+3 | I10: E
A11: I | B11: Tổng số đảng viên đến cuối kỳ báo cáo | C11: Người | D11: 01 | G11: 18 | H11: 18
A12: II | B12: Đảng phí đã thu được từ chi bộ của cấp báo cáo | C12: Đồng | G12: =G13 -> 1112008 | H12: =G12 -> 1112008
A13: 1 | B13: Kỳ báo cáo | C13: Đồng | D13: 02 | G13: 1112008 | H13: =G13 -> 1112008
A14: 2 | B14: Từ đầu năm đến cuối kỳ báo cáo | C14: Đồng | D14: 03 | G14: =G13+'T2'!G14 -> 3354581 | H14: =G14 -> 3354581
A15: III | B15: Đảng phí trích giữ lại ở các cấp | C15: Đồng | G15: =G16 -> 333602 | H15: =G15 -> 333602
A16: 1 | B16: Kỳ báo cáo (05+06+07) | C16: Đồng | D16: 04 | G16: 333602 | H16: =G16 -> 333602
A17: 1.1 | B17: Chi bộ,đảng bộ,bộ phận | C17: Đồng | D17: 05
A18: 1.2 | B18: Tổ chức cơ sở đảng | C18: Đồng | D18: 06
A19: 1.3 | B19: Cấp trên cơ sở | C19: Đồng | D19: 07
A20: 2 | B20: Từ đầu năm đến cuối kỳ báo cáo (09+10+11) | C20: Đồng | D20: 08 | G20: =G16+'T2'!G20 -> 1006373 | H20: =G20 -> 1006373
A21: 2.1 | B21: Chi bộ,đảng bộ,bộ phận | C21: Đồng | D21: 09
A22: 2.2 | B22: Tổ chức cơ sở đảng | C22: Đồng | D22: 10
A23: 2.3 | B23: Cấp trên cơ sở | C23: Đồng | D23: 11
A24: IV | B24: Đảng phí nộp cấp trên của cấp báo cáo | C24: Đồng | G24: =G25 -> 778406 | H24: =G24 -> 778406
A25: 1 | B25: Số phải nộp kỳ báo cáo | C25: Đồng | D25: 12 | G25: 778406 | H25: =G25 -> 778406
A26: 2 | B26: Từ đầu năm đến cuối kỳ báo cáo (03-08) | C26: Đồng | D26: 13 | G26: =G25+'T2'!G26 -> 2348207 | H26: =G26 -> 2348207
A27: 3 | B27: Số còn nợ chưa nộp cấp trên đến cuối kỳ báo cáo | C27: Đồng | D27: 14 | G27: 0 | H27: 0
F29: TP. Hồ Chí Minh, ngày 20 tháng 03 năm 2019
F30: T/M CẤP ỦY
B31: Người lập | F31: BÍ THƯ
B37: Nguyễn Thị Hoa | G37: Lâm Viết Dũng

Sheet QUY 1
A1: ĐẢNG CỘNG SẢN VIỆT NAM | F1: Mẫu báo cáo B01/ĐP
A2: Đơn vị báo cáo: Chi bộ 2 | F2: Ban hành kèm theo CV số 141-CV/VPTW/nb
A3: Đơn vị nhận báo cáo: Văn phòng Đảng ủy | F3: ngày 17-3-2011 của VP Trung ương Đảng
A4: Trường Cao đẳng Lý Tự Trọng
A6: BÁO CÁO THU, NỘP ĐẢNG PHÍ
A7: Quý I năm 2019
A9: TT | B9: Chỉ tiêu | C9: ĐVT | D9: Mã số | E9: Đảng bộ xã,phường,thị trấn | F9: Đảng bộ doanh nghiệp | G9: Đảng bộ khác | H9: Cộng | I9: Ghi chú
A10: A | B10: B | C10: C | D10: D | E10: 1 | F10: 2 | G10: 3 | H10: 4=1+2+3 | I10: E
A11: I | B11: Tổng số đảng viên đến cuối kỳ báo cáo | C11: Người | D11: 01 | G11: 18 | H11: 18
A12: II | B12: Đảng phí đã thu được từ chi bộ của cấp báo cáo | C12: Đồng | G12: =G13 -> 3354581 | H12: =G12 -> 3354581
A13: 1 | B13: Kỳ báo cáo | C13: Đồng | D13: 02 | G13: ='T1'!G12+'T2'!G13+'T3'!H13 -> 3354581 | H13: =G13 -> 3354581
A14: 2 | B14: Từ đầu năm đến cuối kỳ báo cáo | C14: Đồng | D14: 03 | G14: =G13 -> 3354581 | H14: =G14 -> 3354581
A15: III | B15: Đảng phí trích giữ lại ở các cấp | C15: Đồng | G15: =G16 -> 1006373 | H15: =G15 -> 1006373
A16: 1 | B16: Kỳ báo cáo (10+11+12) | C16: Đồng | D16: 04 | G16: ='T1'!G15+'T2'!G16+'T3'!G16 -> 1006373 | H16: =G16 -> 1006373
A17: 1.1 | B17: Chi bộ,đảng bộ,bộ phận | C17: Đồng | D17: 05
A18: 1.2 | B18: Tổ chức cơ sở đảng | C18: Đồng | D18: 06
A19: 1.3 | B19: Cấp trên cơ sở | C19: Đồng | D19: 07
A20: 2 | B20: Từ đầu năm đến cuối kỳ báo cáo (09+10+11) | C20: Đồng | D20: 08 | G20: =G16 -> 1006373 | H20: =G20 -> 1006373
A21: 2.1 | B21: Chi bộ,đảng bộ,bộ phận | C21: Đồng | D21: 09
A22: 2.2 | B22: Tổ chức cơ sở đảng | C22: Đồng | D22: 10
A23: 2.3 | B23: Cấp trên cơ sở | C23: Đồng | D23: 11
A24: IV | B24: Đảng phí nộp cấp trên của cấp báo cáo | C24: Đồng | G24: =G25 -> 2348207 | H24: =G24 -> 2348207
A25: 1 | B25: Số phải nộp kỳ báo cáo | C25: Đồng | D25: 12 | G25: ='T1'!G24+'T2'!G25+'T3'!G25 -> 2348207 | H25: =G25 -> 2348207
A26: 2 | B26: Từ đầu năm đến cuối kỳ báo cáo (01-12) | C26: Đồng | D26: 13 | G26: =G25 -> 2348207 | H26: =G26 -> 2348207
A27: 3 | B27: Số còn nợ chưa nộp cấp trên đến cuối kỳ báo cáo | C27: Đồng | D27: 14
F29: TP. Hồ Chí Minh, ngày 20 tháng 3 năm 2019
F30: T/M CẤP ỦY
B31: Người lập | F31: BÍ THƯ
B38: Nguyễn Thị Hoa | F38: Lâm Viết Dũng

Sheet T4
A1: ĐẢNG CỘNG SẢN VIỆT NAM | F1: Mẫu báo cáo B01/ĐP
A2: Đơn vị báo cáo: Chi bộ 2 | F2: Ban hành kèm theo CV số 141-CV/VPTW/nb
A3: Đơn vị nhận báo cáo: Văn phòng Đảng ủy | F3: ngày 17-3-2011 của VP Trung ương Đảng
A4: Trường Cao đẳng Lý Tự Trọng
A6: BÁO CÁO THU, NỘP ĐẢNG PHÍ
A7: Tháng 4 năm 2019
A9: TT | B9: Chỉ tiêu | C9: ĐVT | D9: Mã số | E9: Đảng bộ xã, phường, thị trấn | F9: Đảng bộ doanh nghiệp | G9: Đảng bộ khác | H9: Cộng | I9: Ghi chú
A10: A | B10: B | C10: C | D10: D | E10: 1 | F10: 2 | G10: 3 | H10: 4=1+2+3 | I10: E
A11: I | B11: Tổng số đảng viên đến cuối kỳ báo cáo | C11: Người | D11: 01 | G11: 18 | H11: 18
A12: II | B12: Đảng phí đã thu được từ chi bộ của cấp báo cáo | C12: Đồng | G12: =G13 -> 5573318 | H12: =G12 -> 5573318
A13: 1 | B13: Kỳ báo cáo | C13: Đồng | D13: 02 | G13: 5573318 | H13: =G13 -> 5573318
A14: 2 | B14: Từ đầu năm đến cuối kỳ báo cáo | C14: Đồng | D14: 03 | G14: =G13+'T3'!G14 -> 8927899 | H14: =G14 -> 8927899
A15: III | B15: Đảng phí trích giữ lại ở các cấp | C15: Đồng | G15: =G16 -> 1671995 | H15: =G15 -> 1671995
A16: 1 | B16: Kỳ báo cáo (05+06+07) | C16: Đồng | D16: 04 | G16: 1671995 | H16: =G16 -> 1671995
A17: 1.1 | B17: Chi bộ,đảng bộ,bộ phận | C17: Đồng | D17: 05
A18: 1.2 | B18: Tổ chức cơ sở đảng | C18: Đồng | D18: 06
A19: 1.3 | B19: Cấp trên cơ sở | C19: Đồng | D19: 07
A20: 2 | B20: Từ đầu năm đến cuối kỳ báo cáo (09+10+11) | C20: Đồng | D20: 08 | G20: =G16+'T3'!G20 -> 2678368 | H20: =G20 -> 2678368
A21: 2.1 | B21: Chi bộ,đảng bộ,bộ phận | C21: Đồng | D21: 09
A22: 2.2 | B22: Tổ chức cơ sở đảng | C22: Đồng | D22: 10
A23: 2.3 | B23: Cấp trên cơ sở | C23: Đồng | D23: 11
A24: IV | B24: Đảng phí nộp cấp trên của cấp báo cáo | C24: Đồng | G24: =G25 -> 3901322 | H24: =G24 -> 3901322
A25: 1 | B25: Số phải nộp kỳ báo cáo | C25: Đồng | D25: 12 | G25: 3901322 | H25: =G25 -> 3901322
A26: 2 | B26: Từ đầu năm đến cuối kỳ báo cáo (03-08) | C26: Đồng | D26: 13 | G26: =G25+'T3'!G26 -> 6249529 | H26: =G26 -> 6249529
A27: 3 | B27: Số còn nợ chưa nộp cấp trên đến cuối kỳ báo cáo | C27: Đồng | D27: 14 | G27: 0 | H27: 0
F29: TP. Hồ Chí Minh, ngày 20 tháng 4 năm 2019
F30: T/M CẤP ỦY
B31: Người lập | F31: BÍ THƯ
B37: Nguyễn Thị Hoa | G37: Lâm Viết Dũng

Sheet T5
A1: ĐẢNG CỘNG SẢN VIỆT NAM | F1: Mẫu báo cáo B01/ĐP
A2: Đơn vị báo cáo: Chi bộ 2 | F2: Ban hành kèm theo CV số 141-CV/VPTW/nb
A3: Đơn vị nhận báo cáo: Văn phòng Đảng ủy | F3: ngày 17-3-2011 của VP Trung ương Đảng
A4: Trường Cao đẳng Lý Tự Trọng
A6: BÁO CÁO THU, NỘP ĐẢNG PHÍ
A7: Tháng 5 năm 2019
A9: TT | B9: Chỉ tiêu | C9: ĐVT | D9: Mã số | E9: Đảng bộ xã, phường, thị trấn | F9: Đảng bộ doanh nghiệp | G9: Đảng bộ khác | H9: Cộng | I9: Ghi chú
A10: A | B10: B | C10: C | D10: D | E10: 1 | F10: 2 | G10: 3 | H10: 4=1+2+3 | I10: E
A11: I | B11: Tổng số đảng viên đến cuối kỳ báo cáo | C11: Người | D11: 01 | G11: 18 | H11: 18
A12: II | B12: Đảng phí đã thu được từ chi bộ của cấp báo cáo | C12: Đồng | G12: =G13 -> 1114459 | H12: =G12 -> 1114459
A13: 1 | B13: Kỳ báo cáo | C13: Đồng | D13: 02 | G13: 1114459 | H13: =G13 -> 1114459
A14: 2 | B14: Từ đầu năm đến cuối kỳ báo cáo | C14: Đồng | D14: 03 | G14: ='T4'!G14+'T5'!G13 -> 10042358 | H14: =G14 -> 10042358
A15: III | B15: Đảng phí trích giữ lại ở các cấp | C15: Đồng | G15: =G16 -> 334338 | H15: =G15 -> 334338
A16: 1 | B16: Kỳ báo cáo (05+06+07) | C16: Đồng | D16: 04 | G16: 334338 | H16: =G16 -> 334338
A17: 1.1 | B17: Chi bộ,đảng bộ,bộ phận | C17: Đồng | D17: 05
A18: 1.2 | B18: Tổ chức cơ sở đảng | C18: Đồng | D18: 06
A19: 1.3 | B19: Cấp trên cơ sở | C19: Đồng | D19: 07
A20: 2 | B20: Từ đầu năm đến cuối kỳ báo cáo (09+10+11) | C20: Đồng | D20: 08 | G20: ='T4'!G20+'T5'!G16 -> 3012706 | H20: =G20 -> 3012706
A21: 2.1 | B21: Chi bộ,đảng bộ,bộ phận | C21: Đồng | D21: 09
A22: 2.2 | B22: Tổ chức cơ sở đảng | C22: Đồng | D22: 10
A23: 2.3 | B23: Cấp trên cơ sở | C23: Đồng | D23: 11
A24: IV | B24: Đảng phí nộp cấp trên của cấp báo cáo | C24: Đồng | G24: =G25 -> 780121 | H24: =G24 -> 780121
A25: 1 | B25: Số phải nộp kỳ báo cáo | C25: Đồng | D25: 12 | G25: 780121 | H25: =G25 -> 780121
A26: 2 | B26: Từ đầu năm đến cuối kỳ báo cáo (03-08) | C26: Đồng | D26: 13 | G26: ='T4'!G26+'T5'!G25 -> 7029650 | H26: =G26 -> 7029650
A27: 3 | B27: Số còn nợ chưa nộp cấp trên đến cuối kỳ báo cáo | C27: Đồng | D27: 14 | G27: 0 | H27: 0
F29: TP. Hồ Chí Minh, ngày 10 tháng 5 năm 2019
F30: T/M CẤP ỦY
B31: Người lập | F31: BÍ THƯ
B37: Nguyễn Thị Hoa | G37: Lâm Viết Dũng

Sheet T6
A1: ĐẢNG CỘNG SẢN VIỆT NAM | F1: Mẫu báo cáo B01/ĐP
A2: Đơn vị báo cáo: Chi bộ 2 | F2: Ban hành kèm theo CV số 141-CV/VPTW/nb
A3: Đơn vị nhận báo cáo: Văn phòng Đảng ủy | F3: ngày 17-3-2011 của VP Trung ương Đảng
A4: Trường Cao đẳng Lý Tự Trọng
A6: BÁO CÁO THU, NỘP ĐẢNG PHÍ
A7: Tháng 6 năm 2019
A9: TT | B9: Chỉ tiêu | C9: ĐVT | D9: Mã số | E9: Đảng bộ xã, phường, thị trấn | F9: Đảng bộ doanh nghiệp | G9: Đảng bộ khác | H9: Cộng | I9: Ghi chú
A10: A | B10: B | C10: C | D10: D | E10: 1 | F10: 2 | G10: 3 | H10: 4=1+2+3 | I10: E
A11: I | B11: Tổng số đảng viên đến cuối kỳ báo cáo | C11: Người | D11: 01 | G11: 20 | H11: 20
A12: II | B12: Đảng phí đã thu được từ chi bộ của cấp báo cáo | C12: Đồng | G12: =G13 -> 4393154 | H12: =G12 -> 4393154
A13: 1 | B13: Kỳ báo cáo | C13: Đồng | D13: 02 | G13: 4393154 | H13: =G13 -> 4393154
A14: 2 | B14: Từ đầu năm đến cuối kỳ báo cáo | C14: Đồng | D14: 03 | G14: ='T5'!G14+'T6'!G12 -> 14435512 | H14: =G14 -> 14435512
A15: III | B15: Đảng phí trích giữ lại ở các cấp | C15: Đồng | G15: =G16 -> 1317946 | H15: =G15 -> 1317946
A16: 1 | B16: Kỳ báo cáo (05+06+07) | C16: Đồng | D16: 04 | G16: 1317946 | H16: =G16 -> 1317946
A17: 1.1 | B17: Chi bộ,đảng bộ,bộ phận | C17: Đồng | D17: 05
A18: 1.2 | B18: Tổ chức cơ sở đảng | C18: Đồng | D18: 06
A19: 1.3 | B19: Cấp trên cơ sở | C19: Đồng | D19: 07
A20: 2 | B20: Từ đầu năm đến cuối kỳ báo cáo (09+10+11) | C20: Đồng | D20: 08 | G20: ='T5'!G20+'T6'!G16 -> 4330652 | H20: =G20 -> 4330652
A21: 2.1 | B21: Chi bộ,đảng bộ,bộ phận | C21: Đồng | D21: 09
A22: 2.2 | B22: Tổ chức cơ sở đảng | C22: Đồng | D22: 10
A23: 2.3 | B23: Cấp trên cơ sở | C23: Đồng | D23: 11
A24: IV | B24: Đảng phí nộp cấp trên của cấp báo cáo | C24: Đồng | G24: =G25 -> 3075208 | H24: =G24 -> 3075208
A25: 1 | B25: Số phải nộp kỳ báo cáo | C25: Đồng | D25: 12 | G25: 3075208 | H25: =G25 -> 3075208
A26: 2 | B26: Từ đầu năm đến cuối kỳ báo cáo (03-08) | C26: Đồng | D26: 13 | G26: ='T5'!G26+'T6'!G25 -> 10104858 | H26: =G26 -> 10104858
A27: 3 | B27: Số còn nợ chưa nộp cấp trên đến cuối kỳ báo cáo | C27: Đồng | D27: 14 | G27: 0 | H27: 0
F29: TP. Hồ Chí Minh, ngày 10 tháng 6 năm 2019
F30: T/M CẤP ỦY
B31: Người lập | F31: BÍ THƯ
B37: Nguyễn Thị Hoa | G37: Lâm Viết Dũng

Sheet QUY 2
A1: ĐẢNG CỘNG SẢN VIỆT NAM | F1: Mẫu báo cáo B01/ĐP
A2: Đơn vị báo cáo: Chi bộ 2 | F2: Ban hành kèm theo CV số 141-CV/VPTW/nb
A3: Đơn vị nhận báo cáo: Văn phòng Đảng ủy | F3: ngày 17-3-2011 của VP Trung ương Đảng
A4: Trường Cao đẳng Lý Tự Trọng
A6: BÁO CÁO THU, NỘP ĐẢNG PHÍ
A7: Quý II năm 2019
A9: TT | B9: Chỉ tiêu | C9: ĐVT | D9: Mã số | E9: Đảng bộ xã,phường,thị trấn | F9: Đảng bộ doanh nghiệp | G9: Đảng bộ khác | H9: Cộng | I9: Ghi chú
A10: A | B10: B | C10: C | D10: D | E10: 1 | F10: 2 | G10: 3 | H10: 4=1+2+3 | I10: E
A11: I | B11: Tổng số đảng viên đến cuối kỳ báo cáo | C11: Người | D11: 01 | G11: 20 | H11: 20
A12: II | B12: Đảng phí đã thu được từ chi bộ của cấp báo cáo | C12: Đồng | G12: =G13 -> 11080931 | H12: =G12 -> 11080931
A13: 1 | B13: Kỳ báo cáo | C13: Đồng | D13: 02 | G13: ='T4'!G13+'T5'!G13+'T6'!H13 -> 11080931 | H13: =G13 -> 11080931
A14: 2 | B14: Từ đầu năm đến cuối kỳ báo cáo | C14: Đồng | D14: 03 | G14: ='QUY 1'!G14+'QUY 2'!G13 -> 14435512 | H14: =G14 -> 14435512
A15: III | B15: Đảng phí trích giữ lại ở các cấp | C15: Đồng | G15: =G16 -> 3324279 | H15: =G15 -> 3324279
A16: 1 | B16: Kỳ báo cáo (10+11+12) | C16: Đồng | D16: 04 | G16: ='T4'!G16+'T5'!G16+'T6'!G16 -> 3324279 | H16: =G16 -> 3324279
A17: 1.1 | B17: Chi bộ,đảng bộ,bộ phận | C17: Đồng | D17: 05
A18: 1.2 | B18: Tổ chức cơ sở đảng | C18: Đồng | D18: 06
A19: 1.3 | B19: Cấp trên cơ sở | C19: Đồng | D19: 07
A20: 2 | B20: Từ đầu năm đến cuối kỳ báo cáo (09+10+11) | C20: Đồng | D20: 08 | G20: ='QUY 1'!G20+G16 -> 4330652 | H20: =G20 -> 4330652
A21: 2.1 | B21: Chi bộ,đảng bộ,bộ phận | C21: Đồng | D21: 09
A22: 2.2 | B22: Tổ chức cơ sở đảng | C22: Đồng | D22: 10
A23: 2.3 | B23: Cấp trên cơ sở | C23: Đồng | D23: 11
A24: IV | B24: Đảng phí nộp cấp trên của cấp báo cáo | C24: Đồng | G24: =G25 -> 7756651 | H24: =G24 -> 7756651
A25: 1 | B25: Số phải nộp kỳ báo cáo | C25: Đồng | D25: 12 | G25: ='T4'!G25+'T5'!G25+'T6'!G25 -> 7756651 | H25: =G25 -> 7756651
A26: 2 | B26: Từ đầu năm đến cuối kỳ báo cáo (01-12) | C26: Đồng | D26: 13 | G26: ='QUY 1'!G26+'QUY 2'!G25 -> 10104858 | H26: =G26 -> 10104858
A27: 3 | B27: Số còn nợ chưa nộp cấp trên đến cuối kỳ báo cáo | C27: Đồng | D27: 14
F29: TP. Hồ Chí Minh, ngày 10 tháng 6 năm 2019
F30: T/M CẤP ỦY
B31: Người lập | F31: BÍ THƯ
B38: Nguyễn Thị Hoa | F38: Lâm Viết Dũng

Sheet T7
A1: ĐẢNG CỘNG SẢN VIỆT NAM | F1: Mẫu báo cáo B01/ĐP
A2: Đơn vị báo cáo: Chi bộ 2 | F2: Ban hành kèm theo CV số 141-CV/VPTW/nb
A3: Đơn vị nhận báo cáo: Văn phòng Đảng ủy | F3: ngày 17-3-2011 của VP Trung ương Đảng
A4: Trường Cao đẳng Lý Tự Trọng
A6: BÁO CÁO THU, NỘP ĐẢNG PHÍ
A7: Tháng 7 năm 2019
A9: TT | B9: Chỉ tiêu | C9: ĐVT | D9: Mã số | E9: Đảng bộ xã, phường, thị trấn | F9: Đảng bộ doanh nghiệp | G9: Đảng bộ khác | H9: Cộng | I9: Ghi chú
A10: A | B10: B | C10: C | D10: D | E10: 1 | F10: 2 | G10: 3 | H10: 4=1+2+3 | I10: E
A11: I | B11: Tổng số đảng viên đến cuối kỳ báo cáo | C11: Người | D11: 01 | G11: 20 | H11: 20
A12: II | B12: Đảng phí đã thu được từ chi bộ của cấp báo cáo | C12: Đồng | G12: =G13 -> 7222335 | H12: =G12 -> 7222335
A13: 1 | B13: Kỳ báo cáo | C13: Đồng | D13: 02 | G13: 7222335 | H13: =G13 -> 7222335
A14: 2 | B14: Từ đầu năm đến cuối kỳ báo cáo | C14: Đồng | D14: 03 | G14: ='QUY 2'!G14+'T7'!G13 -> 21657847 | H14: =G14 -> 21657847
A15: III | B15: Đảng phí trích giữ lại ở các cấp | C15: Đồng | G15: =G16 -> 2166701 | H15: =G15 -> 2166701
A16: 1 | B16: Kỳ báo cáo (05+06+07) | C16: Đồng | D16: 04 | G16: 2166701 | H16: =G16 -> 2166701
A17: 1.1 | B17: Chi bộ,đảng bộ,bộ phận | C17: Đồng | D17: 05
A18: 1.2 | B18: Tổ chức cơ sở đảng | C18: Đồng | D18: 06
A19: 1.3 | B19: Cấp trên cơ sở | C19: Đồng | D19: 07
A20: 2 | B20: Từ đầu năm đến cuối kỳ báo cáo (09+10+11) | C20: Đồng | D20: 08 | G20: ='QUY 2'!G20+'T7'!G16 -> 6497353 | H20: =G20 -> 6497353
A21: 2.1 | B21: Chi bộ,đảng bộ,bộ phận | C21: Đồng | D21: 09
A22: 2.2 | B22: Tổ chức cơ sở đảng | C22: Đồng | D22: 10
A23: 2.3 | B23: Cấp trên cơ sở | C23: Đồng | D23: 11
A24: IV | B24: Đảng phí nộp cấp trên của cấp báo cáo | C24: Đồng | G24: =G25 -> 5055363 | H24: =G24 -> 5055363
A25: 1 | B25: Số phải nộp kỳ báo cáo | C25: Đồng | D25: 12 | G25: 5055363 | H25: =G25 -> 5055363
A26: 2 | B26: Từ đầu năm đến cuối kỳ báo cáo (03-08) | C26: Đồng | D26: 13 | G26: ='QUY 2'!G26+'T7'!G25 -> 15160221 | H26: =G26 -> 15160221
A27: 3 | B27: Số còn nợ chưa nộp cấp trên đến cuối kỳ báo cáo | C27: Đồng | D27: 14 | G27: 0 | H27: 0
F29: TP. Hồ Chí Minh, ngày 15 tháng 7 năm 2019
F30: T/M CẤP ỦY
B31: Người lập | F31: BÍ THƯ
B37: Nguyễn Thị Hoa | G37: Lâm Viết Dũng

Sheet T8
A1: ĐẢNG CỘNG SẢN VIỆT NAM | F1: Mẫu báo cáo B01/ĐP
A2: Đơn vị báo cáo: Chi bộ 2 | F2: Ban hành kèm theo CV số 141-CV/VPTW/nb
A3: Đơn vị nhận báo cáo: Văn phòng Đảng ủy | F3: ngày 17-3-2011 của VP Trung ương Đảng
A4: Trường Cao đẳng Lý Tự Trọng
A6: BÁO CÁO THU, NỘP ĐẢNG PHÍ
A7: Tháng 8 năm 2019
A9: TT | B9: Chỉ tiêu | C9: ĐVT | D9: Mã số | E9: Đảng bộ xã, phường, thị trấn | F9: Đảng bộ doanh nghiệp | G9: Đảng bộ khác | H9: Cộng | I9: Ghi chú
A10: A | B10: B | C10: C | D10: D | E10: 1 | F10: 2 | G10: 3 | H10: 4=1+2+3 | I10: E
A11: I | B11: Tổng số đảng viên đến cuối kỳ báo cáo | C11: Người | D11: 01 | G11: 20 | H11: 20
A12: II | B12: Đảng phí đã thu được từ chi bộ của cấp báo cáo | C12: Đồng | G12: =G13 -> 5694629 | H12: =G12 -> 5694629
A13: 1 | B13: Kỳ báo cáo | C13: Đồng | D13: 02 | G13: 5694629 | H13: =G13 -> 5694629
A14: 2 | B14: Từ đầu năm đến cuối kỳ báo cáo | C14: Đồng | D14: 03 | G14: ='T7'!G14+'T8'!G13 -> 27352476 | H14: =G14 -> 27352476
A15: III | B15: Đảng phí trích giữ lại ở các cấp | C15: Đồng | G15: =G16 -> 1708389 | H15: =G15 -> 1708389
A16: 1 | B16: Kỳ báo cáo (05+06+07) | C16: Đồng | D16: 04 | G16: 1708389 | H16: =G16 -> 1708389
A17: 1.1 | B17: Chi bộ,đảng bộ,bộ phận | C17: Đồng | D17: 05
A18: 1.2 | B18: Tổ chức cơ sở đảng | C18: Đồng | D18: 06
A19: 1.3 | B19: Cấp trên cơ sở | C19: Đồng | D19: 07
A20: 2 | B20: Từ đầu năm đến cuối kỳ báo cáo (09+10+11) | C20: Đồng | D20: 08 | G20: ='T7'!G20+'T8'!G16 -> 8205742 | H20: =G20 -> 8205742
A21: 2.1 | B21: Chi bộ,đảng bộ,bộ phận | C21: Đồng | D21: 09
A22: 2.2 | B22: Tổ chức cơ sở đảng | C22: Đồng | D22: 10
A23: 2.3 | B23: Cấp trên cơ sở | C23: Đồng | D23: 11
A24: IV | B24: Đảng phí nộp cấp trên của cấp báo cáo | C24: Đồng | G24: =G25 -> 3986240 | H24: =G24 -> 3986240
A25: 1 | B25: Số phải nộp kỳ báo cáo | C25: Đồng | D25: 12 | G25: 3986240 | H25: =G25 -> 3986240
A26: 2 | B26: Từ đầu năm đến cuối kỳ báo cáo (03-08) | C26: Đồng | D26: 13 | G26: ='T7'!G26+'T8'!G25 -> 19146461 | H26: =G26 -> 19146461
A27: 3 | B27: Số còn nợ chưa nộp cấp trên đến cuối kỳ báo cáo | C27: Đồng | D27: 14 | G27: 0 | H27: 0
F29: TP. Hồ Chí Minh, ngày 14 tháng 8 năm 2019
F30: T/M CẤP ỦY
B31: Người lập | F31: BÍ THƯ
B37: Nguyễn Thị Hoa | G37: Lâm Viết Dũng

Sheet T9
A1: ĐẢNG CỘNG SẢN VIỆT NAM | F1: Mẫu báo cáo B01/ĐP
A2: Đơn vị báo cáo: Chi bộ 2 | F2: Ban hành kèm theo CV số 141-CV/VPTW/nb
A3: Đơn vị nhận báo cáo: Văn phòng Đảng ủy | F3: ngày 17-3-2011 của VP Trung ương Đảng
A4: Trường Cao đẳng Lý Tự Trọng
A6: BÁO CÁO THU, NỘP ĐẢNG PHÍ
A7: Tháng 9 năm 2019
A9: TT | B9: Chỉ tiêu | C9: ĐVT | D9: Mã số | E9: Đảng bộ xã, phường, thị trấn | F9: Đảng bộ doanh nghiệp | G9: Đảng bộ khác | H9: Cộng | I9: Ghi chú
A10: A | B10: B | C10: C | D10: D | E10: 1 | F10: 2 | G10: 3 | H10: 4=1+2+3 | I10: E
A11: I | B11: Tổng số đảng viên đến cuối kỳ báo cáo | C11: Người | D11: 01 | G11: 20 | H11: 20
A12: II | B12: Đảng phí đã thu được từ chi bộ của cấp báo cáo | C12: Đồng | G12: =G13 -> 2456474 | H12: =G12 -> 2456474
A13: 1 | B13: Kỳ báo cáo | C13: Đồng | D13: 02 | G13: 2456474 | H13: =G13 -> 2456474
A14: 2 | B14: Từ đầu năm đến cuối kỳ báo cáo | C14: Đồng | D14: 03 | G14: ='T8'!G14+'T9'!G13 -> 29808950 | H14: =G14 -> 29808950
A15: III | B15: Đảng phí trích giữ lại ở các cấp | C15: Đồng | G15: =G16 -> 736942 | H15: =G15 -> 736942
A16: 1 | B16: Kỳ báo cáo (05+06+07) | C16: Đồng | D16: 04 | G16: 736942 | H16: =G16 -> 736942
A17: 1.1 | B17: Chi bộ,đảng bộ,bộ phận | C17: Đồng | D17: 05
A18: 1.2 | B18: Tổ chức cơ sở đảng | C18: Đồng | D18: 06
A19: 1.3 | B19: Cấp trên cơ sở | C19: Đồng | D19: 07
A20: 2 | B20: Từ đầu năm đến cuối kỳ báo cáo (09+10+11) | C20: Đồng | D20: 08 | G20: ='T8'!G20+'T9'!G16 -> 8942684 | H20: =G20 -> 8942684
A21: 2.1 | B21: Chi bộ,đảng bộ,bộ phận | C21: Đồng | D21: 09
A22: 2.2 | B22: Tổ chức cơ sở đảng | C22: Đồng | D22: 10
A23: 2.3 | B23: Cấp trên cơ sở | C23: Đồng | D23: 11
A24: IV | B24: Đảng phí nộp cấp trên của cấp báo cáo | C24: Đồng | G24: =G25 -> 1719532 | H24: =G24 -> 1719532
A25: 1 | B25: Số phải nộp kỳ báo cáo | C25: Đồng | D25: 12 | G25: 1719532 | H25: =G25 -> 1719532
A26: 2 | B26: Từ đầu năm đến cuối kỳ báo cáo (03-08) | C26: Đồng | D26: 13 | G26: ='T8'!G26+'T9'!G25 -> 20865993 | H26: =G26 -> 20865993
A27: 3 | B27: Số còn nợ chưa nộp cấp trên đến cuối kỳ báo cáo | C27: Đồng | D27: 14 | G27: 0 | H27: 0
F29: TP. Hồ Chí Minh, ngày 19 tháng 9 năm 2019
F30: T/M CẤP ỦY
B31: Người lập | F31: BÍ THƯ
B37: Nguyễn Thị Hoa | G37: Lâm Viết Dũng

Sheet QUY 3
A1: ĐẢNG CỘNG SẢN VIỆT NAM | F1: Mẫu báo cáo B01/ĐP
A2: Đơn vị báo cáo: Chi bộ 2 | F2: Ban hành kèm theo CV số 141-CV/VPTW/nb
A3: Đơn vị nhận báo cáo: Văn phòng Đảng ủy | F3: ngày 17-3-2011 của VP Trung ương Đảng
A4: Trường Cao đẳng Lý Tự Trọng
A6: BÁO CÁO THU, NỘP ĐẢNG PHÍ
A7: Quý III năm 2019
A9: TT | B9: Chỉ tiêu | C9: ĐVT | D9: Mã số | E9: Đảng bộ xã,phường,thị trấn | F9: Đảng bộ doanh nghiệp | G9: Đảng bộ khác | H9: Cộng | I9: Ghi chú
A10: A | B10: B | C10: C | D10: D | E10: 1 | F10: 2 | G10: 3 | H10: 4=1+2+3 | I10: E
A11: I | B11: Tổng số đảng viên đến cuối kỳ báo cáo | C11: Người | D11: 01 | G11: 20 | H11: 20
A12: II | B12: Đảng phí đã thu được từ chi bộ của cấp báo cáo | C12: Đồng | G12: =G13 -> 15373438 | H12: =G12 -> 15373438
A13: 1 | B13: Kỳ báo cáo | C13: Đồng | D13: 02 | G13: ='T7'!G13+'T8'!G13+'T9'!H13 -> 15373438 | H13: =G13 -> 15373438
A14: 2 | B14: Từ đầu năm đến cuối kỳ báo cáo | C14: Đồng | D14: 03 | G14: ='QUY 2'!G14+'QUY 3'!G13 -> 29808950 | H14: =G14 -> 29808950
A15: III | B15: Đảng phí trích giữ lại ở các cấp | C15: Đồng | G15: =G16 -> 4612032 | H15: =G15 -> 4612032
A16: 1 | B16: Kỳ báo cáo (10+11+12) | C16: Đồng | D16: 04 | G16: ='T7'!G16+'T8'!G16+'T9'!G16 -> 4612032 | H16: =G16 -> 4612032
A17: 1.1 | B17: Chi bộ,đảng bộ,bộ phận | C17: Đồng | D17: 05
A18: 1.2 | B18: Tổ chức cơ sở đảng | C18: Đồng | D18: 06
A19: 1.3 | B19: Cấp trên cơ sở | C19: Đồng | D19: 07
A20: 2 | B20: Từ đầu năm đến cuối kỳ báo cáo (09+10+11) | C20: Đồng | D20: 08 | G20: ='QUY 2'!G20+'QUY 3'!G16 -> 8942684 | H20: =G20 -> 8942684
A21: 2.1 | B21: Chi bộ,đảng bộ,bộ phận | C21: Đồng | D21: 09
A22: 2.2 | B22: Tổ chức cơ sở đảng | C22: Đồng | D22: 10
A23: 2.3 | B23: Cấp trên cơ sở | C23: Đồng | D23: 11
A24: IV | B24: Đảng phí nộp cấp trên của cấp báo cáo | C24: Đồng | G24: =G25 -> 10761135 | H24: =G24 -> 10761135
A25: 1 | B25: Số phải nộp kỳ báo cáo | C25: Đồng | D25: 12 | G25: ='T7'!G25+'T8'!G25+'T9'!G25 -> 10761135 | H25: =G25 -> 10761135
A26: 2 | B26: Từ đầu năm đến cuối kỳ báo cáo (01-12) | C26: Đồng | D26: 13 | G26: ='QUY 2'!G26+'QUY 3'!G25 -> 20865993 | H26: =G26 -> 20865993
A27: 3 | B27: Số còn nợ chưa nộp cấp trên đến cuối kỳ báo cáo | C27: Đồng | D27: 14
F29: TP. Hồ Chí Minh, ngày 19 tháng 9 năm 2019
F30: T/M CẤP ỦY
B31: Người lập | F31: BÍ THƯ
B38: Nguyễn Thị Hoa | F38: Lâm Viết Dũng
